BEGIN:VCALENDAR
VERSION:2.0
PRODID:-//Tukios.com/
BEGIN:VEVENT
UID:658660fe-b481-419c-b1ab-293e9368eb3b@www.michalikfuneralhome.com
DTSTAMP:20260421T022630Z
DTSTART:20260422T140000Z
DTEND:20260422T150000Z
SUMMARY:Visitation
DESCRIPTION:
URL:https://www.michalikfuneralhome.com/obituaries/robert-foys
LOCATION:Holy Name Cathedral 735 North State Street  Chicago IL 60654
GEO:41.8959857;-87.627589
END:VEVENT
END:VCALENDAR