BEGIN:VCALENDAR
VERSION:2.0
PRODID:-//Tukios.com/
BEGIN:VEVENT
UID:2efc8861-cf8a-4c68-bef2-fd9f25f807d8@www.michalikfuneralhome.com
DTSTAMP:20260421T022437Z
DTSTART:20260422T150000Z
DTEND:20260422T160000Z
SUMMARY:Funeral Mass
DESCRIPTION:
URL:https://www.michalikfuneralhome.com/obituaries/robert-foys
LOCATION: 735 North State Street  Chicago IL 60654
GEO:41.8959857;-87.627589
END:VEVENT
END:VCALENDAR